BEGIN:VCALENDAR
VERSION:2.0
PRODID:-//Obstetrics &amp; Gynecology//NONSGML Events//EN
CALSCALE:GREGORIAN
X-ORIGINAL-URL:https://obgyn.wustl.edu/events/
X-WR-CALDESC:Obstetrics &amp; Gynecology - Events
BEGIN:VEVENT
UID:20210212T1847Z-1613155643.6649-EO-12052-1@172.23.128.18
STATUS:CONFIRMED
DTSTAMP:20260417T233246Z
CREATED:20210212T184355Z
LAST-MODIFIED:20210329T210440Z
DTSTART;TZID=America/Chicago:20210406T133000
DTEND;TZID=America/Chicago:20210406T170000
SUMMARY: Rothman Research Day
DESCRIPTION: Annual Dr. David Rothman Research Events Presentation Link Tue
 sday\, April 6\, 2021 Research Post-docs and Clinical Fellow Presentations:
   1:30 PM to 5:00 PM AND  Wednesday\, April 7\, 2020 Rothman Resident/Fello
 w Research Presentations:  7:30 AM to 1:00 PM Invited Guest Speaker: “Train
 ing and Teaching: How to amplify your role in surgical education” Angela Ch
 audhari\, M.D. Associate Professor […]
X-ALT-DESC;FMTTYPE=text/html: <h3><strong>Annual Dr. David Rothman Research
  Events</strong></h3><p><a class="wusm-button" href="https://wustl-hipaa.zo
 om.us/j/92727086217 ">Presentation Link</a></p><p><u><strong><span style="c
 olor: #800000\;">Tuesday\, April 6\, 2021</span></strong><br /></u>Research
  Post-docs and Clinical Fellow Presentations:  <strong>1:30 PM to 5:00 PM</
 strong></p><p><em><u>AND</u></em><em> </em></p><p><span style="color: #8000
 00\;"><strong><u>Wednesday\, April 7\, 2020<br /></u></strong></span>Rothma
 n Resident/Fellow Research Presentations:  <strong>7:30 AM to 1:00 PM</stro
 ng></p><p>Invited Guest Speaker: <em><strong>"Training and Teaching: How to
  amplify your role in surgical education"</strong></em><br /><strong>Angela
  Chaudhari\, M.D.</strong><br />Associate Professor<br />Obstetrics and Gyn
 ecology<br />Minimally Invasive Gynecologic Surgery</p><p>Thanks for suppor
 ting our residents!</p>
CATEGORIES:Annual Events,Visiting Speakers
ORGANIZER;CN="Marcy":MAILTO:marcylivingston@wustl.edu
URL;VALUE=URI:https://obgyn.wustl.edu/events/event/rothman-research-day/
END:VEVENT
BEGIN:VTIMEZONE
TZID:America/Chicago
BEGIN:DAYLIGHT
TZOFFSETFROM:-0600
TZOFFSETTO:-0500
DTSTART:20210314T080000
TZNAME:CDT
END:DAYLIGHT
END:VTIMEZONE
END:VCALENDAR
