BEGIN:VCALENDAR
VERSION:2.0
PRODID:-//Obstetrics &amp; Gynecology//NONSGML Events//EN
CALSCALE:GREGORIAN
X-ORIGINAL-URL:https://obgyn.wustl.edu/events/
X-WR-CALDESC:Obstetrics &amp; Gynecology - Events
BEGIN:VEVENT
UID:20170331T1715Z-1490980545.3956-EO-2333-1@172.21.70.58
STATUS:CONFIRMED
DTSTAMP:20260421T105250Z
CREATED:20160815T225446Z
LAST-MODIFIED:20170406T154423Z
DTSTART;TZID=America/Chicago:20161104T090000
DTEND;TZID=America/Chicago:20161104T100000
SUMMARY: Shruthi Mahalingaiah\, MD\, MS
DESCRIPTION: Visiting Speaker Shruthi Mahalingaiah\, MD\, MS Assistant Prof
 essor Reproductive Endocrinology and Infertility Department of Obstetrics a
 nd Gynecology Boston University School of Medicine Boston Medical Center “A
 ir Pollution Exposures and Gynecologic Disease Incidence: Physiology\, Mech
 anisms\, and Findings” Host/Lab: Moley
X-ALT-DESC;FMTTYPE=text/html: <p><a href="http://sites.bu.edu/mahalingaiahl
 ab/" target="_blank"><strong><span style="color: #993300\;"><span style="co
 lor: #000000\;">Visiting Speaker<br /></span></span></strong></a><strong><a
  href="http://sites.bu.edu/mahalingaiahlab/" target="_blank">Shruthi Mahali
 ngaiah\, MD\, MS</a></strong><br />Assistant Professor<br />Reproductive En
 docrinology and Infertility<br />Department of Obstetrics and Gynecology<br
  />Boston University School of Medicine<br />Boston Medical Center</p><p><s
 trong>“Air Pollution Exposures and Gynecologic Disease Incidence: Physiolog
 y\, Mechanisms\, and Findings”</strong></p><p>Host/Lab: Moley</p>
CATEGORIES:CRepHS Basic Science Seminars,Visiting Speakers
LOCATION:BJCIH Conference Room 10AB
GEO:38.636692;-90.263454
ORGANIZER;CN="Catherine":MAILTO:cbetz@wustl.edu
URL;VALUE=URI:https://obgyn.wustl.edu/events/event/shruthi-mahalingaiah-md-
 ms/
END:VEVENT
BEGIN:VTIMEZONE
TZID:America/Chicago
BEGIN:DAYLIGHT
TZOFFSETFROM:-0500
TZOFFSETTO:-0500
DTSTART:20160313T080000
TZNAME:CDT
END:DAYLIGHT
END:VTIMEZONE
END:VCALENDAR
