BEGIN:VCALENDAR
VERSION:2.0
PRODID:-//Obstetrics &amp; Gynecology//NONSGML Events//EN
CALSCALE:GREGORIAN
X-ORIGINAL-URL:https://obgyn.wustl.edu/events/
X-WR-CALDESC:Obstetrics &amp; Gynecology - Events
BEGIN:VEVENT
UID:20201105T2325Z-1604618713.4387-EO-7799-1@172.23.128.18
STATUS:CONFIRMED
DTSTAMP:20260420T193607Z
CREATED:20221215T194436Z
LAST-MODIFIED:20221215T194436Z
DTSTART;TZID=America/Chicago:20201112T140000
DTEND;TZID=America/Chicago:20201112T153000
SUMMARY: What Does it Mean to Be Here\, Now?
DESCRIPTION: Academy for Diversity\, Equity\, and Inclusion In partnership 
 with the Office of Ombuds\, this open facilitated discussion on current eve
 nts is an opportunity for staff and faculty to reflect\, process and begin 
 a discussion about current events. In this interactive Zoom-based session\,
  participants will practice listening strategies and reflect on how current
  events are\, or […]
X-ALT-DESC;FMTTYPE=text/html: <p><strong>Academy for Diversity\, Equity\, a
 nd Inclusion</strong></p><p>In partnership with the Office of Ombuds\, this
  open facilitated discussion on current events is an opportunity for staff 
 and faculty to reflect\, process and begin a discussion about current event
 s.</p><p>In this interactive Zoom-based session\, participants will practic
 e listening strategies and reflect on how current events are\, or might imp
 act climate and culture in respective areas of the institution.  Register h
 ere:  <a href="https://academy.wustl.edu/engage/">https://academy.wustl.edu
 /engage/</a></p>
ORGANIZER;CN="Marcy":MAILTO:marcylivingston@wustl.edu
URL;VALUE=URI:https://obgyn.wustl.edu/events/event/what-does-it-mean-to-be-
 here-now/
END:VEVENT
BEGIN:VTIMEZONE
TZID:America/Chicago
BEGIN:STANDARD
TZOFFSETFROM:-0500
TZOFFSETTO:-0600
DTSTART:20201101T070000
TZNAME:CST
END:STANDARD
END:VTIMEZONE
END:VCALENDAR
