BEGIN:VCALENDAR
VERSION:2.0
PRODID:-//Obstetrics &amp; Gynecology//NONSGML Events//EN
CALSCALE:GREGORIAN
X-ORIGINAL-URL:https://obgyn.wustl.edu/events/
X-WR-CALDESC:Obstetrics &amp; Gynecology - Events
BEGIN:VEVENT
UID:20210107T1617Z-1610036227.9083-EO-11663-1@172.23.128.19
STATUS:CONFIRMED
DTSTAMP:20260422T015458Z
CREATED:20210107T160950Z
LAST-MODIFIED:20210107T201302Z
DTSTART;TZID=America/Chicago:20210121T143000
DTEND;TZID=America/Chicago:20210121T160000
SUMMARY: WOMEN’S HEALTH TECHNOLOGIES WORKSHOP
DESCRIPTION: Women’s Health Technologies Workshop Thursday\, January 21\, 2
 021 2:30 pm US Central Time – 4:00 pm US Central Time Registration required
  for the Zoom link. Please register here: https://wustl.zoom.us/meeting/reg
 ister/tJ0qcu-tqzkvHtMWaM12ok1W-3izUFiOqXha Don’t miss this important worksh
 op on women’s health by world renowned experts! The goal of this workshop i
 s to promote collaborations between engineers and physician-scientists to [
 …]
X-ALT-DESC;FMTTYPE=text/html: <p><strong>Women's Health Technologies Worksh
 op</strong></p><p><strong>Thursday\, January 21\, 2021<br />2:30 pm US Cent
 ral Time – 4:00 pm US Central Time</strong></p><p>Registration required for
  the Zoom link. Please register <a href="https://wustl.zoom.us/meeting/regi
 ster/tJ0qcu-tqzkvHtMWaM12ok1W-3izUFiOqXha">here</a>:<br /><a href="https://
 wustl.zoom.us/meeting/register/tJ0qcu-tqzkvHtMWaM12ok1W-3izUFiOqXha">https:
 //wustl.zoom.us/meeting/register/tJ0qcu-tqzkvHtMWaM12ok1W-3izUFiOqXha</a></
 p><p>Don't miss this important workshop on women's health by world renowned
  experts! The goal of this workshop is to promote collaborations between en
 gineers and physician-scientists to tackle important problems on women’s he
 alth.</p><p><strong>Presenters:</strong><br /><a href="https://profiles.wus
 tl.edu/en/persons/matthew-powell"><strong>Matthew A. Powell\, MD</strong></
 a>\, professor of obstetrics and gynecology and  division chief of gynecolo
 gic oncology\, Washington University in St. Louis</p><p><a href="https://bm
 e.duke.edu/faculty/nimmi-ramanujam"><strong>Nimmi Ramanujam</strong></a>\, 
 the Robert W. Carr Professor of Engineering\, Professor of Cancer Pharmacol
 ogy and Global Health at Duke University and director of the Center for Glo
 bal Women’s Health Technologies (GWHT).</p><p>The workshop will be hosted b
 y <a href="https://engineering.wustl.edu/faculty/Quing-Zhu.html">Quing Zhu<
 /a>\, Professor of Biomedical Engineering\, Washington University in St. Lo
 uis</p><p><strong><u>AGENDA</u><br />Thursday\, January 21\, 2:30 pm US Cen
 tral Time – 4:00 pm US Central Time</strong><br />Registration required for
  the Zoom link. Please register for this event by going <a href="https://wu
 stl.zoom.us/meeting/register/tJ0qcu-tqzkvHtMWaM12ok1W-3izUFiOqXha">here</a>
 .</p><p>2:30pm-2:35pm - Introduction<br /><strong>2:35pm -3:05pm</strong> –
  Presentation: "<strong>Advances in gynecologic cancer: current advances an
 d future needs</strong>" by <strong><a href="https://profiles.wustl.edu/en/
 persons/matthew-powell">Matthew A. Powell\, MD</a></strong>\, professor of 
 obstetrics and gynecology and division chief of gynecologic oncology\, Wash
 ington University in St. Louis</p><p>3:05pm - 3:15pm - Question and Answer<
 /p><p><strong>3:15pm - 3:45pm</strong> - Presentation\, "<strong>Empowering
  women globally through health and educational innovation</strong>" by <str
 ong><u><a href="https://bme.duke.edu/faculty/nimmi-ramanujam">Nimmi Ramanuj
 am</a></u></strong>\, the Robert W. Carr Professor of Engineering\, profess
 or of cancer pharmacology\, research professor of global health and directo
 r of the Center for Global Women’s Health Technologies (GWHT) at Duke Unive
 rsity</p><p>3:45pm - 3:55pm - Question and answer<br />3:55pm - 4:00pm - Cl
 osing remarks</p><p><u>Workshop committee members:</u><br />Quing Zhu\, Pro
 fessor\, Biomedical Engineering and Radiology<br />Yong Wang\, Associate Pr
 ofessor\, Obstetrics & Gynecology and ESE<br />Chao Zhou\, Associate Profes
 sor\, Biomedical Engineering<br />Tracy Spitznagle\, Professor\, Physical T
 herapy and Obstetrics and Gynecology<br />Whitney Ross\, Assistant Professo
 r\, Obstetrics & Gynecology</p>
CATEGORIES:Special Seminar,Visiting Speakers
LOCATION:Online
GEO:0.000000;0.000000
ORGANIZER;CN="Magdalena":MAILTO:mdnelson@wustl.edu
URL;VALUE=URI:https://obgyn.wustl.edu/events/event/womens-health-technologi
 es-workshop/
END:VEVENT
BEGIN:VTIMEZONE
TZID:America/Chicago
BEGIN:STANDARD
TZOFFSETFROM:-0500
TZOFFSETTO:-0600
DTSTART:20201101T070000
TZNAME:CST
END:STANDARD
END:VTIMEZONE
END:VCALENDAR
