BEGIN:VCALENDAR
VERSION:2.0
PRODID:-//Obstetrics &amp; Gynecology//NONSGML Events//EN
CALSCALE:GREGORIAN
X-ORIGINAL-URL:https://obgyn.wustl.edu/events/
X-WR-CALDESC:Obstetrics &amp; Gynecology - Events
BEGIN:VEVENT
UID:20220118T1739Z-1642527547.392-EO-47348-1@172.23.128.19
STATUS:CONFIRMED
DTSTAMP:20260424T200150Z
CREATED:20221215T194504Z
LAST-MODIFIED:20221215T194504Z
DTSTART;TZID=America/Chicago:20220602T100000
DTEND;TZID=America/Chicago:20220602T110000
SUMMARY: WUSM 1.0 Diversity\, Equity & Inclusion Open Session (Virtual)
DESCRIPTION: Diversity & Inclusion 1.0 – Awareness (Virtual) Awareness – Th
 e goal of this interactive training is to provide participants with a basic
  awareness of cultural diversity as well as how culture influences the work
 place\, campus and clinical care environment at Washington University Schoo
 l of Medicine. The class is a combination of experiential and didactic trai
 ning […]
X-ALT-DESC;FMTTYPE=text/html: <p><strong>Diversity & Inclusion 1.0 - Awaren
 ess (Virtual)</strong></p><p>Awareness – The goal of this interactive train
 ing is to provide participants with a basic awareness of cultural diversity
  as well as how culture influences the workplace\, campus and clinical care
  environment at Washington University School of Medicine.</p><p>The class i
 s a combination of experiential and didactic training designed to:</p><p>De
 fine diversity\, equity and inclusion</p><p>Communicate the importance of d
 iversity and inclusion initiatives to the university</p><p>Explore the impa
 ct of exclusion</p><p>Understand the importance of being an ally</p><p><str
 ong>How to Register: </strong> Registration must be completed by logging in
 to <a href="https://wustl.sabacloud.com/">https://wustl.sabacloud.com/</a> 
  and selecting HR - Diversity & Inclusion 1.0\, course number 00006181 and 
 class ID number 000057894.</p><p><strong>How to attend the training: </stro
 ng></p><p>This is a virtual training and conducted in Zoom.  Please ignore 
 any links from SABA to join this training.  The Zoom link will be sent to r
 egistered learners the week of May 27\, 2022.</p><p><strong>What to do afte
 r training is completed:  </strong>After the training has been completed an
 d the completion update is made by the Office of Diversity\, Equity & Inclu
 sion\, learners receive a system generated Email from <em>Washington Univer
 sity Learn@Work.  </em>The Email contains a link to the evaluation. Complet
 e the evaluation as soon as you can to avoid action messages of “<em>in</em
 > <em>progress\, pending action or “incomplete”</em> in your Plan that is n
 ot associated with the training\, but the evaluation.</p><p><strong>Where t
 o go for help:</strong></p><p>Training questions - contact Valerie Joyner 3
 14-362-0347\, <a href="mailto:valeriejoyner@wustl.edu">valeriejoyner@wustl.
 edu</a>.  The instructor is not available on training day\, prior to or dur
 ing training to answer questions about training.</p><p><strong>Individuals 
 with disabilities are encouraged to attend all Washington University School
  of Medicine sponsored events.  If you are a person with a disability who r
 equires a reasonable accommodation in order to participate in this event\, 
 at least one week before the event\, please contact the Washington Universi
 ty School of Medicine Office of Diversity\, Equity and Inclusion in advance
  at 314-273-2809 or </strong><a href="mailto:MedDEI@wustl.edu"><strong>MedD
 EI@wustl.edu</strong></a><strong>.</strong></p>
LOCATION:Zoom (Virtual)
GEO:38.635102;-90.262792
ORGANIZER;CN="Marcy":MAILTO:marcylivingston@wustl.edu
URL;VALUE=URI:https://obgyn.wustl.edu/events/event/wusm-1-0-diversity-equit
 y-inclusion-open-session-virtual-4/
END:VEVENT
BEGIN:VTIMEZONE
TZID:America/Chicago
BEGIN:DAYLIGHT
TZOFFSETFROM:-0600
TZOFFSETTO:-0500
DTSTART:20220313T080000
TZNAME:CDT
END:DAYLIGHT
END:VTIMEZONE
END:VCALENDAR
