BEGIN:VCALENDAR
VERSION:2.0
PRODID:-//Obstetrics &amp; Gynecology//NONSGML Events//EN
CALSCALE:GREGORIAN
X-ORIGINAL-URL:https://obgyn.wustl.edu/events/
X-WR-CALDESC:Obstetrics &amp; Gynecology - Events
BEGIN:VEVENT
UID:20211015T1721Z-1634318496.9205-EO-46456-1@172.23.128.19
STATUS:CONFIRMED
DTSTAMP:20260424T200158Z
CREATED:20221215T194456Z
LAST-MODIFIED:20221215T194456Z
DTSTART;TZID=America/Chicago:20220209T100000
DTEND;TZID=America/Chicago:20220209T110000
SUMMARY: WUSM 1.0 Diversity\, Equity & Inclusion Open Session (Virtual)
DESCRIPTION: Diversity & Inclusion 1.0 – Awareness (This is a virtual train
 ing) Awareness – The goal of this interactive training is to provide partic
 ipants with a basic awareness of cultural diversity as well as how culture 
 influences the workplace\, campus and clinical care environment at Washingt
 on University School of Medicine. The class is a combination of […]
X-ALT-DESC;FMTTYPE=text/html: <p><strong>Diversity & Inclusion 1.0 - Awaren
 ess </strong><strong>(This is a virtual training)</strong></p><p>Awareness 
 – The goal of this interactive training is to provide participants with a b
 asic awareness of cultural diversity as well as how culture influences the 
 workplace\, campus and clinical care environment at Washington University S
 chool of Medicine.</p><p>The class is a combination of experiential and did
 actic training designed to:</p><ul><li>Define diversity\, equity and inclus
 ion</li><li>Communicate the importance of diversity and inclusion initiativ
 es to the university</li><li>Explore the impact of exclusion</li><li>Unders
 tand the importance of being an ally</li></ul><p><strong>How to Register: <
 /strong> Registration must be completed by logging into <a href="https://wu
 stl.sabacloud.com/">LearnatWork</a> and selecting HR - Diversity & Inclusio
 n 1.0\, course number 00006181 and class ID number 000057853.  The registra
 tion expiration for this training is beginning of business day 01/26/2022.<
 /p><p><strong>How to attend the training: </strong> This is a virtual train
 ing and conducted in Zoom.  Please ignore any links from SABA to join this 
 training.  The Zoom link will be sent to registered learners before January
  28\, 2022.</p><p><strong>What to do after training is completed:  </strong
 >A</p><p>After the training has been completed and the completion update is
  made by the Office of Diversity\, Equity & Inclusion\, learners will recei
 ve a system generated Email from <em>Washington University Learn@Work.  </e
 m>The Email contains a link to the evaluation. Complete the evaluation as s
 oon as you can to avoid action messages of “<em>in</em> <em>progress\, pend
 ing action or “incomplete”</em> in your Plan.  The message is not associate
 d with the training\, but the evaluation.</p><p><strong>Where to get help:<
 /strong></p><ul><li>Computer\, audio\, video connectivity questions - conta
 ct IThelp 314-933-3333\, ITHelp@wustl.edu</li><li>Zoom questions - contact 
 Andrew Bauer 314-935-4599\, abauer@wustl.edu</li><li>Training questions - c
 ontact Valerie Joyner 314-852-2798\, valeriejoyner@wustl.edu</li></ul><p><s
 trong>Individuals with disabilities are encouraged to attend all Washington
  University School of Medicine sponsored events.  If you are a person with 
 a disability who requires a reasonable accommodation in order to participat
 e in this event\, at least one week before the event\, please contact the W
 ashington University School of Medicine Office of Diversity\, Equity and In
 clusion in advance at 314-273-2809 or </strong><a href="mailto:MedDEI@wustl
 .edu"><strong>MedDEI@wustl.edu</strong></a><strong>.</strong></p>
LOCATION:Zoom (Virtual)
GEO:38.635102;-90.262792
ORGANIZER;CN="Marcy":MAILTO:marcylivingston@wustl.edu
URL;VALUE=URI:https://obgyn.wustl.edu/events/event/wusm-1-0-diversity-equit
 y-inclusion-open-session-virtual/
END:VEVENT
BEGIN:VTIMEZONE
TZID:America/Chicago
BEGIN:STANDARD
TZOFFSETFROM:-0500
TZOFFSETTO:-0600
DTSTART:20211107T070000
TZNAME:CST
END:STANDARD
END:VTIMEZONE
END:VCALENDAR
