BEGIN:VCALENDAR
VERSION:2.0
PRODID:-//Obstetrics &amp; Gynecology//NONSGML Events//EN
CALSCALE:GREGORIAN
X-ORIGINAL-URL:https://obgyn.wustl.edu/events/
X-WR-CALDESC:Obstetrics &amp; Gynecology - Events
BEGIN:VEVENT
UID:20220128T2330Z-1643412659.7566-EO-47570-1@172.23.128.19
STATUS:CONFIRMED
DTSTAMP:20260424T200225Z
CREATED:20221215T194505Z
LAST-MODIFIED:20221215T194505Z
DTSTART;TZID=America/Chicago:20220602T110000
DTEND;TZID=America/Chicago:20220602T120000
SUMMARY: WUSM 2.0 Diversity\, Equity and Inclusion Training Open Session (V
 irtual)
DESCRIPTION: Diversity & Inclusion 2.0 – Unconscious Bias (This is a virtua
 l training) Unconscious Bias – Facilitators provide experiential activities
  that align with materials from the American Association of Medical College
 s (AAMC) to demonstrate how unconscious bias is something that every indivi
 dual holds.  The goals of this interactive training is to highlight the con
 cept of unconscious […]
X-ALT-DESC;FMTTYPE=text/html: <p><strong>Diversity & Inclusion 2.0 - Uncons
 cious Bias (This is a virtual training)</strong></p><p>Unconscious Bias – F
 acilitators provide experiential activities that align with materials from 
 the American Association of Medical Colleges (AAMC) to demonstrate how unco
 nscious bias is something that every individual holds.  The goals of this i
 nteractive training is to highlight the concept of unconscious bias\, how i
 t influences individuals on a daily basis\, and provides tangible tools for
  mitigating unconscious bias.</p><p><strong>How to Register: </strong> Regi
 stration must be completed by logging into <a href="https://wustl.sabacloud
 .com/">https://wustl.sabacloud.com/</a> and selecting HR - Diversity & Incl
 usion 2.0\, course number 00006221 and class ID number 000057896.  The regi
 stration expiration for this training is beginning of business day 05/19/20
 22. Please be aware that some diversity training in 2022 is offered virtual
  and onsite.</p><p><strong>How to attend the training: </strong> This is vi
 rtual training and conducted in Zoom.  Please ignore any links from SABA to
  join this training.  The Zoom link will be sent to registered learners bef
 ore June  2\,  2022.</p><p><strong>What to do after training is completed: 
  </strong>After the training has been completed and the completion update i
 s made by the Office of Diversity\, Equity & Inclusion\, learners receive a
  system generated Email from <em>Washington University Learn@Work.  </em>Th
 e Email contains a link to the evaluation. Complete the evaluation as soon 
 as you can to avoid action messages of “<em>in</em> <em>progress\, pending 
 action or “incomplete”</em> in your Plan that is not associated with the tr
 aining\, but the evaluation.</p><ol><li>Please leave the video on during th
 e training if possible. You may be asked to turn it off to increase Zoom da
 ta and bandwidth. In that case you may turn it on when speaking.</li><li>Pl
 ease use full name as screen name. If you’re joining from a device that doe
 s not allow Zoom ID\, please place your name in chat. If joining from a spa
 ce with other participants\, place all names in your space in the chat to a
 llow them to get credit for attending the training.</li></ol><ul><li><stron
 g>How to Change Zoom screen name – </strong>While in the meeting <strong>Ho
 w to Change Zoom screen name – </strong>While in the meeting see “Participa
 nts”\, hover the mouse over your name on the participants list\, see “more”
  if using Participant list\, or … on your screen\, “Rename”\, enter first a
 nd last name\, “OK”. Or place your full name in the chat at the beginning o
 f the training.  If an incomplete screen name is used\, it may take longer 
 to change the completion status.</li></ul><ol start="3"><li>Please leave mi
 cs off unless speaking</li><li>Late arrival – Please join the training with
 in 15 minutes of start.  Anyone joining after 15 minutes will need to regis
 ter for another training and complete in full\, to receive a Successful com
 pletion status</li><li>Please do not share the Zoom link publicly</li><li>P
 lease allow at least 5 business days to update your completion status</li><
 /ol><ol start="7"><li><strong>Where to go for help:</strong></li></ol><ul><
 li>Login questions - contact 314-933-3333\, ITHelp@wustl.edu</li><li>Zoom q
 uestions - contact Andrew Bauer 314-935-4599\, abauer@wustl.edu</li><li>Tra
 ining questions - contact Valerie Joyner 314-362-0347 valeriejoyner@wustl.e
 du</li></ul><p><strong>Individuals with disabilities are encouraged to atte
 nd all Washington University School of Medicine sponsored events.  If you a
 re a person with a disability who requires a reasonable accommodation in or
 der to participate in this event\, at least one week before the event\, ple
 ase contact the Washington University School of Medicine Office of Diversit
 y\, Equity and Inclusion in advance at 314-273-2809 or </strong><a href="ma
 ilto:MedDEI@wustl.edu"><strong>MedDEI@wustl.edu</strong></a><strong>.</stro
 ng></p>
LOCATION:Zoom (Virtual)
GEO:38.635102;-90.262792
ORGANIZER;CN="Marcy":MAILTO:marcylivingston@wustl.edu
URL;VALUE=URI:https://obgyn.wustl.edu/events/event/wusm-2-0-diversity-equit
 y-and-inclusion-training-open-session-virtual/
END:VEVENT
BEGIN:VTIMEZONE
TZID:America/Chicago
BEGIN:DAYLIGHT
TZOFFSETFROM:-0600
TZOFFSETTO:-0500
DTSTART:20220313T080000
TZNAME:CDT
END:DAYLIGHT
END:VTIMEZONE
END:VCALENDAR
