BEGIN:VCALENDAR
VERSION:2.0
PRODID:-//Obstetrics &amp; Gynecology//NONSGML Events//EN
CALSCALE:GREGORIAN
X-ORIGINAL-URL:https://obgyn.wustl.edu/events/
X-WR-CALDESC:Obstetrics &amp; Gynecology - Events
BEGIN:VEVENT
UID:20201104T2003Z-1604520224.529-EO-7709-1@172.23.128.18
STATUS:CONFIRMED
DTSTAMP:20260424T200218Z
CREATED:20221215T194446Z
LAST-MODIFIED:20221215T194446Z
DTSTART;TZID=America/Chicago:20210504T110000
DTEND;TZID=America/Chicago:20210504T120000
SUMMARY: WUSM 2.0 Diversity\, Equity & Inclusion Open Session
DESCRIPTION: Registration must be completed by logging into LearnatWork and
  selecting HR – Diversity & Inclusion 2.0\, course number 00006221 and clas
 s ID number 000052172. Learning objective: Unconscious Bias – Facilitators 
 provide experiential activities that align with materials from the American
  Association of Medical Colleges (AAMC) to demonstrate how unconscious bias
  is something that every individual […]
X-ALT-DESC;FMTTYPE=text/html: <p>Registration must be completed by logging 
 into LearnatWork and selecting HR - Diversity & Inclusion 2.0\, course numb
 er 00006221 and class ID number 000052172.</p><p>Learning objective:</p><p>
 Unconscious Bias – Facilitators provide experiential activities that align 
 with materials from the American Association of Medical Colleges (AAMC) to 
 demonstrate how unconscious bias is something that every individual holds. 
  The goals of this interactive training is to highlight the concept of unco
 nscious bias\, how it influences individuals on a daily basis\, and provide
 s tangible tools for mitigating unconscious bias.</p><p>At this time\, the 
 Office of Diversity\, Equity & Inclusion will be offering training online u
 sing the video conferencing tool\, Zoom. You may participate using a comput
 er or smart phone.</p><p>Zoom link will be sent before May 4\, 2021</p><p><
 strong>Individuals with disabilities are encouraged to attend all Washingto
 n University School of Medicine sponsored events.  If you are a person with
  a disability who requires a reasonable accommodation in order to participa
 te in this event\, please contact the Washington University School of Medic
 ine Office of Diversity\, Equity and Inclusion in advance at 314-273-2809 o
 r </strong><a href="mailto:MedDEI@wustl.edu"><strong>MedDEI@wustl.edu</stro
 ng></a><strong>.</strong></p><ul><li>Login questions - contact 314-933-3333
 \, ITHelp@wustl.edu</li><li>Zoom questions - contact Andrew Bauer 314-935-4
 599\, abauer@wustl.edu</li><li>Training questions - contact Valerie Joyner 
 314-852-2798\, valeriejoyner@wustl.edu</li></ul>
LOCATION:Zoom (Virtual)
GEO:38.635102;-90.262792
ORGANIZER;CN="Marcy":MAILTO:marcylivingston@wustl.edu
URL;VALUE=URI:https://obgyn.wustl.edu/events/event/wusm-2-0-diversity-equit
 y-inclusion-open-session-5/
END:VEVENT
BEGIN:VTIMEZONE
TZID:America/Chicago
BEGIN:DAYLIGHT
TZOFFSETFROM:-0600
TZOFFSETTO:-0500
DTSTART:20210314T080000
TZNAME:CDT
END:DAYLIGHT
END:VTIMEZONE
END:VCALENDAR
