BEGIN:VCALENDAR
VERSION:2.0
PRODID:-//Obstetrics &amp; Gynecology//NONSGML Events//EN
CALSCALE:GREGORIAN
X-ORIGINAL-URL:https://obgyn.wustl.edu/events/
X-WR-CALDESC:Obstetrics &amp; Gynecology - Events
BEGIN:VEVENT
UID:20210217T1547Z-1613576840.7755-EO-8788-1@172.23.128.18
STATUS:CONFIRMED
DTSTAMP:20260424T200217Z
CREATED:20221215T194449Z
LAST-MODIFIED:20221215T194449Z
DTSTART;TZID=America/Chicago:20210803T110000
DTEND;TZID=America/Chicago:20210803T120000
SUMMARY: WUSM 2.0 Diversity\, Equity & Inclusion Open Session
DESCRIPTION: Registration must be completed by logging into LearnatWork and
  selecting HR – Diversity & Inclusion 2.0\, course number 00006221 and clas
 s ID number 000053469. Learning objective:  Unconscious Bias – Facilitators
  provide experiential activities that align with materials from the America
 n Association of Medical Colleges (AAMC) to demonstrate how unconscious bia
 s is something that every individual holds.  […]
X-ALT-DESC;FMTTYPE=text/html: <p><em>Registration must be completed by logg
 ing into LearnatWork and selecting HR - Diversity & Inclusion 2.0\, course 
 number 00006221 and class ID number 000053469.</em></p><p><em>Learning obje
 ctive:  </em><strong>Unconscious Bias</strong> – Facilitators provide exper
 iential activities that align with materials from the American Association 
 of Medical Colleges (AAMC) to demonstrate how unconscious bias is something
  that every individual holds.  The goals of this interactive training is to
  highlight the concept of unconscious bias\, how it influences individuals 
 on a daily basis\, and provides tangible tools for mitigating unconscious b
 ias.</p><p>Zoom link will be sent to registered learners before August 3\, 
 2021.</p><p><strong>Individuals with disabilities are encouraged to attend 
 all Washington University School of Medicine sponsored events.  If you are 
 a person with a disability who requires a reasonable accommodation in order
  to participate in this event\, please contact the Washington University Sc
 hool of Medicine Office of Diversity\, Equity and Inclusion in advance at 3
 14-273-2809 or </strong><a href="mailto:MedDEI@wustl.edu"><strong>MedDEI@wu
 stl.edu</strong></a><strong>.</strong></p><ul><li>Login questions - contact
  314-933-3333\, ITHelp@wustl.edu</li><li>Zoom questions - contact Andrew Ba
 uer 314-935-4599\, abauer@wustl.edu</li><li>Training questions - contact Va
 lerie Joyner 314-852-2798\, valeriejoyner@wustl.edu</li></ul>
LOCATION:Zoom (Virtual)
GEO:38.635102;-90.262792
ORGANIZER;CN="Marcy":MAILTO:marcylivingston@wustl.edu
URL;VALUE=URI:https://obgyn.wustl.edu/events/event/wusm-2-0-diversity-equit
 y-inclusion-open-session-7/
END:VEVENT
BEGIN:VTIMEZONE
TZID:America/Chicago
BEGIN:DAYLIGHT
TZOFFSETFROM:-0600
TZOFFSETTO:-0500
DTSTART:20210314T080000
TZNAME:CDT
END:DAYLIGHT
END:VTIMEZONE
END:VCALENDAR
