BEGIN:VCALENDAR
VERSION:2.0
PRODID:-//Obstetrics &amp; Gynecology//NONSGML Events//EN
CALSCALE:GREGORIAN
X-ORIGINAL-URL:https://obgyn.wustl.edu/events/
X-WR-CALDESC:Obstetrics &amp; Gynecology - Events
BEGIN:VEVENT
UID:20211015T2336Z-1634340995.4405-EO-46474-1@172.23.128.19
STATUS:CONFIRMED
DTSTAMP:20260424T100011Z
CREATED:20221215T194458Z
LAST-MODIFIED:20221215T194458Z
DTSTART;TZID=America/Chicago:20220316T110000
DTEND;TZID=America/Chicago:20220316T120000
SUMMARY: WUSM 2.0 Diversity\, Equity & Inclusion Open Session (Virtual)
DESCRIPTION: Diversity & Inclusion 2.0 – Unconscious Bias   Unconscious Bia
 s – Facilitators provide experiential activities that align with materials 
 from the American Association of Medical Colleges (AAMC) to demonstrate how
  unconscious bias is something that every individual holds.  The goals of t
 his interactive training is to highlight the concept of unconscious bias\, 
 how it influences individuals […]
X-ALT-DESC;FMTTYPE=text/html: <p><strong>Diversity & Inclusion 2.0 - Uncons
 cious Bias  </strong></p><p>Unconscious Bias – Facilitators provide experie
 ntial activities that align with materials from the American Association of
  Medical Colleges (AAMC) to demonstrate how unconscious bias is something t
 hat every individual holds.  The goals of this interactive training is to h
 ighlight the concept of unconscious bias\, how it influences individuals on
  a daily basis\, and provides tangible tools for mitigating unconscious bia
 s.</p><p><strong>How to Register: </strong> Registration must be completed 
 by logging into <a href="https://wustl.sabacloud.com/">https://wustl.sabacl
 oud.com/</a>  and selecting HR - Diversity & Inclusion 2.0\, course number 
 00006221 and class ID number 000060856</p><p><strong>How to attend the trai
 ning: </strong> This is an onsite training.  Please remember to sign the lo
 g when entering the physical training location to be awarded credit for att
 ending.</p><p><strong>What to do after training is completed:  </strong>Aft
 er the training has been completed and the completion update is made by the
  Office of Diversity\, Equity & Inclusion\, learners receive a system gener
 ated Email from <em>Washington University Learn@Work.  </em>The Email conta
 ins a link to the evaluation. Complete the evaluation as soon as you can to
  avoid action messages of “<em>in</em> <em>progress\, pending action or “in
 complete”</em> in your Plan that is not associated with the training\, but 
 the evaluation.</p><p><strong>Where to go for help:</strong></p><p>Training
  questions - contact Valerie Joyner 314-852-2798\, <a href="mailto:valeriej
 oyner@wustl.edu">valeriejoyner@wustl.edu</a>.  The instructor is not availa
 ble on training day prior to or during training to answer questions about t
 raining.</p><p><strong>Individuals with disabilities are encouraged to atte
 nd all Washington University School of Medicine sponsored events.  If you a
 re a person with a disability who requires a reasonable accommodation in or
 der to participate in this event\, at least one week before the event\, ple
 ase contact the Washington University School of Medicine Office of Diversit
 y\, Equity and Inclusion in advance at 314-273-2809 or </strong><a href="ma
 ilto:MedDEI@wustl.edu"><strong>MedDEI@wustl.edu</strong></a><strong>.</stro
 ng></p>
LOCATION:Zoom (Virtual)
GEO:38.635102;-90.262792
ORGANIZER;CN="Marcy":MAILTO:marcylivingston@wustl.edu
URL;VALUE=URI:https://obgyn.wustl.edu/events/event/wusm-2-0-diversity-equit
 y-inclusion-open-session-virtual-2/
END:VEVENT
BEGIN:VTIMEZONE
TZID:America/Chicago
BEGIN:DAYLIGHT
TZOFFSETFROM:-0600
TZOFFSETTO:-0500
DTSTART:20220313T080000
TZNAME:CDT
END:DAYLIGHT
END:VTIMEZONE
END:VCALENDAR
