BEGIN:VCALENDAR
VERSION:2.0
PRODID:-//Obstetrics &amp; Gynecology//NONSGML Events//EN
CALSCALE:GREGORIAN
X-ORIGINAL-URL:https://obgyn.wustl.edu/events/
X-WR-CALDESC:Obstetrics &amp; Gynecology - Events
BEGIN:VEVENT
UID:20211015T1721Z-1634318496.9328-EO-46459-1@172.23.128.19
STATUS:CONFIRMED
DTSTAMP:20260423T024814Z
CREATED:20221215T194457Z
LAST-MODIFIED:20221215T194457Z
DTSTART;TZID=America/Chicago:20220209T110000
DTEND;TZID=America/Chicago:20220209T120000
SUMMARY: WUSM 2.0 Diversity\, Equity & Inclusion Open Session (Virtual)
DESCRIPTION: Diversity & Inclusion 2.0 – Unconscious Bias (This is a virtua
 l training) Unconscious Bias – Facilitators provide experiential activities
  that align with materials from the American Association of Medical College
 s (AAMC) to demonstrate how unconscious bias is something that every indivi
 dual holds.  The goals of this interactive training is to highlight the con
 cept of unconscious […]
X-ALT-DESC;FMTTYPE=text/html: <p><strong>Diversity & Inclusion 2.0 - Uncons
 cious Bias (This is a virtual training)</strong></p><p>Unconscious Bias – F
 acilitators provide experiential activities that align with materials from 
 the American Association of Medical Colleges (AAMC) to demonstrate how unco
 nscious bias is something that every individual holds.  The goals of this i
 nteractive training is to highlight the concept of unconscious bias\, how i
 t influences individuals on a daily basis\, and provides tangible tools for
  mitigating unconscious bias.</p><p><strong>How to Register: </strong> Regi
 stration must be completed by logging into <a href="https://wustl.sabacloud
 .com/">LearnatWork</a> and selecting HR - Diversity & Inclusion 2.0\, cours
 e number 00006221 and class ID number 000057855.  The registration expirati
 on for this training is beginning of business day 01/26/2022.</p><p><strong
 >How to attend the training: </strong> This is a virtual training and condu
 cted in Zoom.  Please ignore any links from SABA to join this training.  Th
 e Zoom link will be sent to registered learners before January 28\, 2022.</
 p><p><strong>What to do after training is completed:  </strong>After the tr
 aining has been completed and the completion update is made by the Office o
 f Diversity\, Equity & Inclusion\, learners receive a system generated Emai
 l from <em>Washington University Learn@Work.  </em>The Email contains a lin
 k to the evaluation. Complete the evaluation as soon as you can to avoid ac
 tion messages of “<em>in</em> <em>progress\, pending action or “incomplete”
 </em> in your Plan that is not associated with the training\, but the evalu
 ation.</p><p><strong>Where to go for help:</strong></p><ul><li>Login questi
 ons - contact 314-933-3333\, ITHelp@wustl.edu</li><li>Zoom questions - cont
 act Andrew Bauer 314-935-4599\, abauer@wustl.edu</li><li>Training questions
  - contact Valerie Joyner 314-852-2798\, valeriejoyner@wustl.edu</li></ul><
 p><strong>Individuals with disabilities are encouraged to attend all Washin
 gton University School of Medicine sponsored events.  If you are a person w
 ith a disability who requires a reasonable accommodation in order to partic
 ipate in this event\, at least one week before the event\, please contact t
 he Washington University School of Medicine Office of Diversity\, Equity an
 d Inclusion in advance at 314-273-2809 or </strong><a href="mailto:MedDEI@w
 ustl.edu"><strong>MedDEI@wustl.edu</strong></a><strong>.</strong></p>
LOCATION:Zoom (Virtual)
GEO:38.635102;-90.262792
ORGANIZER;CN="Marcy":MAILTO:marcylivingston@wustl.edu
URL;VALUE=URI:https://obgyn.wustl.edu/events/event/wusm-2-0-diversity-equit
 y-inclusion-open-session-virtual/
END:VEVENT
BEGIN:VTIMEZONE
TZID:America/Chicago
BEGIN:STANDARD
TZOFFSETFROM:-0500
TZOFFSETTO:-0600
DTSTART:20211107T070000
TZNAME:CST
END:STANDARD
END:VTIMEZONE
END:VCALENDAR
