BEGIN:VCALENDAR
VERSION:2.0
PRODID:-//Obstetrics &amp; Gynecology//NONSGML Events//EN
CALSCALE:GREGORIAN
X-ORIGINAL-URL:https://obgyn.wustl.edu/events/
X-WR-CALDESC:Obstetrics &amp; Gynecology - Events
BEGIN:VEVENT
UID:20210217T1648Z-1613580496.4473-EO-8827-1@172.23.128.18
STATUS:CONFIRMED
DTSTAMP:20260424T200207Z
CREATED:20221215T194454Z
LAST-MODIFIED:20221215T194454Z
DTSTART;TZID=America/Chicago:20211117T100000
DTEND;TZID=America/Chicago:20211117T110000
SUMMARY: WUSM 3.0 Diversity\, Equity & Inclusion Open Session
DESCRIPTION: Registration must be completed by logging into LearnatWork and
  selecting HR – Diversity & Inclusion 3.0\, course number 00006222 and clas
 s ID number 000053583. Learning objective:  Commitment – The goal of this t
 raining is to provide language to address discrimination without shaming ot
 hers\, but rather fostering inclusion.  We accomplish this goal through int
 eractive media\, positive\, […]
X-ALT-DESC;FMTTYPE=text/html: <p><em>Registration must be completed by logg
 ing into LearnatWork and selecting HR - Diversity & Inclusion 3.0\, course 
 number 00006222 and class ID number 000053583.</em></p><p><em>Learning obje
 ctive:  <strong>C</strong></em><strong>ommitment</strong> – The goal of thi
 s training is to provide language to address discrimination without shaming
  others\, but rather fostering inclusion.  We accomplish this goal through 
 interactive media\, positive\, response techniques\, and activities that en
 courage empathetic understanding through exploring real life identities.</p
 ><p>Zoom link will be sent to registered learners before Wednesday\, Novemb
 er 17\, 2021.</p><p><strong>Individuals with disabilities are encouraged to
  attend all Washington University School of Medicine sponsored events.  If 
 you are a person with a disability who requires a reasonable accommodation 
 in order to participate in this event\, please contact the Washington Unive
 rsity School of Medicine Office of Diversity\, Equity and Inclusion in adva
 nce at 314-273-2809 or </strong><a href="mailto:MedDEI@wustl.edu"><strong>M
 edDEI@wustl.edu</strong></a><strong>.</strong></p><ul><li>Login questions -
  contact 314-933-3333\, ITHelp@wustl.edu</li><li>Zoom questions - contact A
 ndrew Bauer 314-935-4599\, abauer@wustl.edu</li><li>Training questions - co
 ntact Valerie Joyner 314-852-2798\, valeriejoyner@wustl.edu</li></ul>
LOCATION:Zoom (Virtual)
GEO:38.635102;-90.262792
ORGANIZER;CN="Marcy":MAILTO:marcylivingston@wustl.edu
URL;VALUE=URI:https://obgyn.wustl.edu/events/event/wusm-3-0-diversity-equit
 y-inclusion-open-session-13/
END:VEVENT
BEGIN:VTIMEZONE
TZID:America/Chicago
BEGIN:STANDARD
TZOFFSETFROM:-0500
TZOFFSETTO:-0600
DTSTART:20211107T070000
TZNAME:CST
END:STANDARD
END:VTIMEZONE
END:VCALENDAR
