BEGIN:VCALENDAR
VERSION:2.0
PRODID:-//Obstetrics &amp; Gynecology//NONSGML Events//EN
CALSCALE:GREGORIAN
X-ORIGINAL-URL:https://obgyn.wustl.edu/events/
X-WR-CALDESC:Obstetrics &amp; Gynecology - Events
BEGIN:VEVENT
UID:20210122T2042Z-1611348127.0543-EO-8392-1@172.23.128.18
STATUS:CONFIRMED
DTSTAMP:20260424T200217Z
CREATED:20221215T194447Z
LAST-MODIFIED:20221215T194447Z
DTSTART;TZID=America/Chicago:20210616T100000
DTEND;TZID=America/Chicago:20210616T110000
SUMMARY: WUSM 3.0 Diversity\, Equity & Inclusion Open Session
DESCRIPTION: Registration must be completed by logging into LearnatWork and
  selecting HR – Diversity & Inclusion 3.0\, course number 00006222 and clas
 s ID number 000052176. Learning objective:  Commitment – The goal of this t
 raining is to provide language to address discrimination without shaming ot
 hers\, but rather fostering inclusion.  We accomplish this goal through int
 eractive media\, positive\, response […]
X-ALT-DESC;FMTTYPE=text/html: <p>Registration must be completed by logging 
 into LearnatWork and selecting HR - Diversity & Inclusion 3.0\, course numb
 er 00006222 and class ID number 000052176.</p><p>Learning objective:  Commi
 tment – The goal of this training is to provide language to address discrim
 ination without shaming others\, but rather fostering inclusion.  We accomp
 lish this goal through interactive media\, positive\, response techniques\,
  and activities that encourage empathetic understanding through exploring r
 eal life identities.</p><p>At this time\, the Office of Diversity\, Equity 
 & Inclusion will be offering training online using the video conferencing t
 ool\, Zoom. You may participate using a computer or smart phone.</p><p>Zoom
  link will be sent to registered learners before June 16\, 2021.</p><p><str
 ong>Individuals with disabilities are encouraged to attend all Washington U
 niversity School of Medicine sponsored events.  If you are a person with a 
 disability who requires a reasonable accommodation in order to participate 
 in this event\, please contact the Washington University School of Medicine
  Office of Diversity\, Equity and Inclusion in advance at 314-273-2809 or <
 /strong><a href="mailto:MedDEI@wustl.edu"><strong>MedDEI@wustl.edu</strong>
 </a><strong>.</strong></p>
LOCATION:Zoom (Virtual)
GEO:38.635102;-90.262792
ORGANIZER;CN="Marcy":MAILTO:marcylivingston@wustl.edu
URL;VALUE=URI:https://obgyn.wustl.edu/events/event/wusm-3-0-diversity-equit
 y-inclusion-open-session-7/
END:VEVENT
BEGIN:VTIMEZONE
TZID:America/Chicago
BEGIN:DAYLIGHT
TZOFFSETFROM:-0600
TZOFFSETTO:-0500
DTSTART:20210314T080000
TZNAME:CDT
END:DAYLIGHT
END:VTIMEZONE
END:VCALENDAR
