BEGIN:VCALENDAR
VERSION:2.0
PRODID:-//Obstetrics &amp; Gynecology//NONSGML Events//EN
CALSCALE:GREGORIAN
X-ORIGINAL-URL:https://obgyn.wustl.edu/events/
X-WR-CALDESC:Obstetrics &amp; Gynecology - Events
BEGIN:VEVENT
UID:20211015T2336Z-1634340995.4186-EO-46462-1@172.23.128.19
STATUS:CONFIRMED
DTSTAMP:20260424T131457Z
CREATED:20221215T194457Z
LAST-MODIFIED:20221215T194457Z
DTSTART;TZID=America/Chicago:20220221T110000
DTEND;TZID=America/Chicago:20220221T120000
SUMMARY: WUSM 3.0 Diversity\, Equity & Inclusion Open Session – Virtual
DESCRIPTION: Diversity & Inclusion 3.0 – Commitment (This is a virtual trai
 ning) Commitment – The goal of this training is to provide language to addr
 ess discrimination without shaming others\, but rather fostering inclusion.
   We accomplish this goal through interactive media\, positive\, response t
 echniques\, and activities that encourage empathetic understanding through 
 exploring real life identities. How to […]
X-ALT-DESC;FMTTYPE=text/html: <p><strong>Diversity & Inclusion 3.0 - Commit
 ment (This is a virtual training)</strong></p><p>Commitment – The goal of t
 his training is to provide language to address discrimination without shami
 ng others\, but rather fostering inclusion.  We accomplish this goal throug
 h interactive media\, positive\, response techniques\, and activities that 
 encourage empathetic understanding through exploring real life identities.<
 /p><p><strong>How to Register: </strong> Registration must be completed by 
 logging into <a href="https://wustl.sabacloud.com/">LearnatWork</a> and sel
 ecting HR - Diversity & Inclusion 3.0\, course number 00006222 and class ID
  number 000057857.   The registration expiration for this training is begin
 ning of business day 02/11/2022.</p><p><strong>How to attend the training: 
 </strong> This is a virtual training and conducted in Zoom.  Please ignore 
 any links from SABA to join this training.  The Zoom link will be sent to r
 egistered learners before 02/11/22.</p><p><strong>What to do after training
  is completed:  </strong>After the training has been completed and the comp
 letion update is made by the Office of Diversity\, Equity & Inclusion\, lea
 rners receive a system generated Email from <em>Washington University Learn
 @Work.  </em>The Email contains a link to the evaluation. Complete the eval
 uation as soon as you can to avoid action messages of “<em>in</em> <em>prog
 ress\, pending action or “incomplete”</em> in your Plan that is not associa
 ted with the training\, but the evaluation.</p><p><strong>Where to go for h
 elp:</strong></p><ul><li>Login questions - contact 314-933-3333\, ITHelp@wu
 stl.edu</li><li>Zoom questions - contact Andrew Bauer 314-935-4599\, abauer
 @wustl.edu</li><li>Training questions - contact Valerie Joyner 314-852-2798
 \, valeriejoyner@wustl.edu</li></ul><p><strong>Individuals with disabilitie
 s are encouraged to attend all Washington University School of Medicine spo
 nsored events.  If you are a person with a disability who requires a reason
 able accommodation in order to participate in this event\, at least one wee
 k before the event\, please contact the Washington University School of Med
 icine Office of Diversity\, Equity and Inclusion in advance at 314-273-2809
  or </strong><a href="mailto:MedDEI@wustl.edu"><strong>MedDEI@wustl.edu</st
 rong></a><strong>.</strong></p>
LOCATION:Zoom (Virtual)
GEO:38.635102;-90.262792
ORGANIZER;CN="Marcy":MAILTO:marcylivingston@wustl.edu
URL;VALUE=URI:https://obgyn.wustl.edu/events/event/wusm-3-0-diversity-equit
 y-inclusion-open-session-virtual/
END:VEVENT
BEGIN:VTIMEZONE
TZID:America/Chicago
BEGIN:STANDARD
TZOFFSETFROM:-0500
TZOFFSETTO:-0600
DTSTART:20211107T070000
TZNAME:CST
END:STANDARD
END:VTIMEZONE
END:VCALENDAR
