BEGIN:VCALENDAR
VERSION:2.0
PRODID:-//Obstetrics &amp; Gynecology//NONSGML Events//EN
CALSCALE:GREGORIAN
X-ORIGINAL-URL:https://obgyn.wustl.edu/events/
X-WR-CALDESC:Obstetrics &amp; Gynecology - Events
BEGIN:VEVENT
UID:20210122T2112Z-1611349929.5451-EO-8395-1@172.23.128.18
STATUS:CONFIRMED
DTSTAMP:20260424T200116Z
CREATED:20221215T194448Z
LAST-MODIFIED:20221215T194448Z
DTSTART;TZID=America/Chicago:20210616T110000
DTEND;TZID=America/Chicago:20210616T120000
SUMMARY: WUSM 4.0 Diversity\, Equity & Inclusion Open Session
DESCRIPTION: Registration must be completed by logging into LearnatWork and
  selecting HR – Diversity & Inclusion 4.0\, course number 00006223 and clas
 s ID number 000052178. Learning objective: Action – Building on recently de
 veloped skill sets to speak up.  4.0 empowers participants to proactively c
 ombat bias and prejudicial statements/behaviors made on campus.  Participan
 ts will engage in activities […]
X-ALT-DESC;FMTTYPE=text/html: <p>Registration must be completed by logging 
 into LearnatWork and selecting HR - Diversity & Inclusion 4.0\, course numb
 er 00006223 and class ID number 000052178.</p><p><strong>Learning objective
 :</strong></p><p>Action – Building on recently developed skill sets to spea
 k up.  4.0 empowers participants to proactively combat bias and prejudicial
  statements/behaviors made on campus.  Participants will engage in activiti
 es that assess:</p><ul><li>Where are we now? The current state of DE & I</l
 i><li>Where do we want to be? What a warm\, welcoming\, diverse and inclusi
 ve WUSM would look like</li><li>What does it take to get there? Identifying
  the challenges and opportunities to accomplish the DEI goals</li></ul><p>A
 t this time\, the Office of Diversity\, Equity & Inclusion will be offering
  training online using the video conferencing tool\, Zoom. You may particip
 ate using a computer or smart phone.</p><p>Zoom link will be sent to regist
 ered learners before June 16\, 2021</p><p><strong>Individuals with disabili
 ties are encouraged to attend all Washington University School of Medicine 
 sponsored events.  If you are a person with a disability who requires a rea
 sonable accommodation in order to participate in this event\, please contac
 t the Washington University School of Medicine Office of Diversity\, Equity
  and Inclusion in advance at 314-273-2809 or </strong><a href="mailto:MedDE
 I@wustl.edu"><strong>MedDEI@wustl.edu</strong></a><strong>.</strong></p><p>
 Training questions - contact Valerie Joyner  at valeriejoyner@wustl.edu</p>
ORGANIZER;CN="Marcy":MAILTO:marcylivingston@wustl.edu
URL;VALUE=URI:https://obgyn.wustl.edu/events/event/wusm-4-0-diversity-equit
 y-inclusion-open-session-7/
END:VEVENT
BEGIN:VTIMEZONE
TZID:America/Chicago
BEGIN:DAYLIGHT
TZOFFSETFROM:-0600
TZOFFSETTO:-0500
DTSTART:20210314T080000
TZNAME:CDT
END:DAYLIGHT
END:VTIMEZONE
END:VCALENDAR
