BEGIN:VCALENDAR
VERSION:2.0
PRODID:-//Obstetrics &amp; Gynecology//NONSGML Events//EN
CALSCALE:GREGORIAN
X-ORIGINAL-URL:https://obgyn.wustl.edu/events/
X-WR-CALDESC:Obstetrics &amp; Gynecology - Events
BEGIN:VEVENT
UID:20210217T1618Z-1613578686.2288-EO-8794-1@172.23.128.18
STATUS:CONFIRMED
DTSTAMP:20260424T200214Z
CREATED:20221215T194450Z
LAST-MODIFIED:20221215T194450Z
DTSTART;TZID=America/Chicago:20210819T140000
DTEND;TZID=America/Chicago:20210819T150000
SUMMARY: WUSM 4.0 Diversity\, Equity & Inclusion Open Session
DESCRIPTION: Registration must be completed by logging into LearnatWork and
  selecting HR – Diversity & Inclusion 4.0\, course number 00006223 and clas
 s ID number 000053481. Learning objective:  Action – Building on recently d
 eveloped skill sets to speak up.  4.0 empowers participants to proactively 
 combat bias and prejudicial statements/behaviors made on campus.  Participa
 nts will engage in activities that […]
X-ALT-DESC;FMTTYPE=text/html: <p><em>Registration must be completed by logg
 ing into LearnatWork and selecting HR - Diversity & Inclusion 4.0\, course 
 number 00006223 and class ID number 000053481.</em></p><p><em>Learning obje
 ctive:  </em><strong>Action</strong> – Building on recently developed skill
  sets to speak up.  4.0 empowers participants to proactively combat bias an
 d prejudicial statements/behaviors made on campus.  Participants will engag
 e in activities that assess:</p><ul><li>Where are we now? The current state
  of DE & I</li><li>Where do we want to be? What a warm\, welcoming\, divers
 e and inclusive WUSM would look like</li><li>What does it take to get there
 ? Identifying the challenges and opportunities to accomplish the DEI goals<
 /li></ul><p>Zoom link will be sent to registered learners before Thursday\,
  August 19\, 2021.</p><p><strong>Individuals with disabilities are encourag
 ed to attend all Washington University School of Medicine sponsored events.
   If you are a person with a disability who requires a reasonable accommoda
 tion in order to participate in this event\, please contact the Washington 
 University School of Medicine Office of Diversity\, Equity and Inclusion in
  advance at 314-273-2809 or </strong><a href="mailto:MedDEI@wustl.edu"><str
 ong>MedDEI@wustl.edu</strong></a><strong>.</strong></p><ul><li>Login questi
 ons - contact 314-933-3333\, ITHelp@wustl.edu</li><li>Zoom questions - cont
 act Andrew Bauer 314-935-4599\, abauer@wustl.edu</li><li>Training questions
  - contact Valerie Joyner 314-852-2798\, valeriejoyner@wustl.edu</li></ul>
LOCATION:Zoom (Virtual)
GEO:38.635102;-90.262792
ORGANIZER;CN="Marcy":MAILTO:marcylivingston@wustl.edu
URL;VALUE=URI:https://obgyn.wustl.edu/events/event/wusm-4-0-diversity-equit
 y-inclusion-open-session-9/
END:VEVENT
BEGIN:VTIMEZONE
TZID:America/Chicago
BEGIN:DAYLIGHT
TZOFFSETFROM:-0600
TZOFFSETTO:-0500
DTSTART:20210314T080000
TZNAME:CDT
END:DAYLIGHT
END:VTIMEZONE
END:VCALENDAR
