BEGIN:VCALENDAR
VERSION:2.0
PRODID:-//Obstetrics &amp; Gynecology//NONSGML Events//EN
CALSCALE:GREGORIAN
X-ORIGINAL-URL:https://obgyn.wustl.edu/events/
X-WR-CALDESC:Obstetrics &amp; Gynecology - Events
BEGIN:VEVENT
UID:20220128T2330Z-1643412659.8526-EO-47618-1@172.23.128.19
STATUS:CONFIRMED
DTSTAMP:20260424T102343Z
CREATED:20221215T194508Z
LAST-MODIFIED:20221215T194508Z
DTSTART;TZID=America/Chicago:20220817T120000
DTEND;TZID=America/Chicago:20220817T130000
SUMMARY: WUSM 4.0 Diversity\, Equity & Inclusion Open Session (Virtual)
DESCRIPTION: Diversity & Inclusion 4.0 – Action (This is a virtual training
 ) Description here How to Register:  Registration must be completed by logg
 ing into https://wustl.sabacloud.com/ and selecting HR – Diversity & Inclus
 ion 4.0\, course number 00006223 and class ID number 000057924.  The regist
 ration expiration for this training is beginning of business day 8/3/2022. 
 Please be aware […]
X-ALT-DESC;FMTTYPE=text/html: <p><strong>Diversity & Inclusion 4.0 - Action
  (This is a virtual training)</strong></p><p>Description here</p><p><strong
 >How to Register: </strong> Registration must be completed by logging into 
 <a href="https://wustl.sabacloud.com/">https://wustl.sabacloud.com/</a> and
  selecting HR - Diversity & Inclusion 4.0\, course number 00006223 and clas
 s ID number 000057924.  The registration expiration for this training is be
 ginning of business day 8/3/2022. Please be aware that some diversity train
 ing in 2022 is offered virtual and onsite.</p><p><strong>How to attend the 
 training: </strong> This is a virtual training\, conducted in Zoom.  Please
  ignore any links from SABA to join this training.  The Zoom link will be s
 ent to registered learners before August 17\, 2022.</p><p><strong>What to d
 o after training is completed:  </strong>After the training has been comple
 ted and the completion update is made by the Office of Diversity\, Equity &
  Inclusion\, learners receive a system generated Email from <em>Washington 
 University Learn@Work.  </em>The Email contains a link to the evaluation. C
 omplete the evaluation as soon as you can to avoid action messages of “<em>
 in</em> <em>progress\, pending action or “incomplete”</em> in your Plan tha
 t is not associated with the training\, but the evaluation.</p><ol><li>Plea
 se leave the video on during the training if possible. You may be asked to 
 turn off video to increase Zoom data and bandwidth.</li><li>Please use full
  name as screen name. If you’re joining from a device that does not allow Z
 oom ID\, please place your name in chat. If joining from a space with other
  participants\, place all names in your space in the chat to allow them to 
 get credit for attending the training.</li></ol><ul><li><strong>How to Chan
 ge Zoom screen name –</strong>While in the meeting see “Participants”\, hov
 er the mouse over your name on the participants list\, see “more” if using 
 Participant list\, or … on your screen\, “Rename”\, enter first and last na
 me\, “OK”. Or place your full name in the chat at the beginning of the trai
 ning.  If an incomplete screen name is used\, it may take longer to change 
 the completion status.</li></ul><ol start="3"><li>Please leave mics off unl
 ess speaking</li><li>Late arrival – Please join the training within 15 minu
 tes of start.  Anyone joining after 15 minutes will need to register for an
 other training and complete in full\, to receive a Successful completion st
 atus</li><li>Please do not share the Zoom link publicly</li><li>Please allo
 w at least 5 business days to update your completion status</li><li><strong
 >Where to go for help:</strong></li></ol><ul><li>Login questions - contact 
 314-933-3333\, ITHelp@wustl.edu</li><li>Zoom questions - contact Andrew Bau
 er 314-935-4599\, abauer@wustl.edu</li><li>Training questions - contact Val
 erie Joyner 314-362-0347 valeriejoyner@wustl.edu</li></ul><p><strong>Indivi
 duals with disabilities are encouraged to attend all Washington University 
 School of Medicine sponsored events.  If you are a person with a disability
  who requires a reasonable accommodation in order to participate in this ev
 ent\, at least one week before the event\, please contact the Washington Un
 iversity School of Medicine Office of Diversity\, Equity and Inclusion in a
 dvance at 314-273-2809 or </strong><a href="mailto:MedDEI@wustl.edu"><stron
 g>MedDEI@wustl.edu</strong></a><strong>.</strong></p>
LOCATION:Zoom (Virtual)
GEO:38.635102;-90.262792
ORGANIZER;CN="Marcy":MAILTO:marcylivingston@wustl.edu
URL;VALUE=URI:https://obgyn.wustl.edu/events/event/wusm-4-0-diversity-equit
 y-inclusion-open-session-virtual/
END:VEVENT
BEGIN:VTIMEZONE
TZID:America/Chicago
BEGIN:DAYLIGHT
TZOFFSETFROM:-0600
TZOFFSETTO:-0500
DTSTART:20220313T080000
TZNAME:CDT
END:DAYLIGHT
END:VTIMEZONE
END:VCALENDAR
